BEGIN:VCALENDAR
VERSION:2.0
PRODID:-//Arbeitskreis Provenienzforschung e.V. - ECPv6.12.0.1//NONSGML v1.0//EN
CALSCALE:GREGORIAN
METHOD:PUBLISH
X-ORIGINAL-URL:https://staging.arbeitskreis-provenienzforschung.org
X-WR-CALDESC:Veranstaltungen für Arbeitskreis Provenienzforschung e.V.
REFRESH-INTERVAL;VALUE=DURATION:PT1H
X-Robots-Tag:noindex
X-PUBLISHED-TTL:PT1H
BEGIN:VTIMEZONE
TZID:Europe/Warsaw
BEGIN:DAYLIGHT
TZOFFSETFROM:+0100
TZOFFSETTO:+0200
TZNAME:CEST
DTSTART:20250330T010000
END:DAYLIGHT
BEGIN:STANDARD
TZOFFSETFROM:+0200
TZOFFSETTO:+0100
TZNAME:CET
DTSTART:20251026T010000
END:STANDARD
END:VTIMEZONE
BEGIN:VEVENT
DTSTART;TZID=Europe/Warsaw:20250424T000000
DTEND;TZID=Europe/Warsaw:20250425T235959
DTSTAMP:20260421T151113
CREATED:20250113T125712Z
LAST-MODIFIED:20250113T125712Z
UID:11688-1745452800-1745625599@staging.arbeitskreis-provenienzforschung.org
SUMMARY:4th International Provenance Conference "Dispersed Libraries - (Post)war Fates of Early Printed Book Collections"
DESCRIPTION:About\nDuring the armed conflicts which took place in Europe in various periods of history\, many private and institutional early printed book collections were relocated and dispersed. They are currently held in libraries\, archives\, museums\, and private collections all over the world. As the tangible legacy of Europe’s cultural heritage\, they serve as an invaluable resource for comprehending its history\, science and culture. The purpose of this conference is to examine the war and postwar fates of early printed book collections\, their current legal status\, and strategies for bringing them together. \n\n\n\n\n\n\n\n\nCall for papers\n\n\n\n\n\n\n\n\n\nSubmit your proposal! The conference will cover the following topics: \n\nbook collections dispersed during military conflicts in the modern period (up to the 18th century);\nbook collections dispersed during military conflicts in the 19th and 20th centuries;\nlegal aspects of book collection dispersion;\nconsolidation of dispersed book collections: research\, cooperation and perspectives.\n\nThe conference will focus on European collections\, but for comparative purposes\, papers on similar phenomena from other parts of the world are also welcome. \nApplications: \n\nwith a paper: by February 28\, 2025\, to: ksiazka-dawna@ossolineum.pl\nwithout a paper: by March 14\, 2025 (limited number of places\, applications will be processed chronologically)\n\nConference fee: none \n\n\n\n\n\nApplication form\n\n\n\n\n\n\n\n\n\n\nScientific Committee\n\n\n\n\n\n\n\n\n\n\nAntonia Bartoli\, Yale University Art Gallery\, USA\ndr Petra-Regine Dehnel\, Staatsbibliothel zu Berlin. Preußischer Kulturbesitz\, Germany\ndr Łukasz Kamiński\, Ossoliński National Institute\, Poland\ndr Tomasz Makowski\, National Library of Poland\nprof. Emma Hagström Molin\, Uppsala University\, Humboldt University in Berlin\, Sweden/Germany\nprof. dr hab. Ryszard Nowicki\, Kazimierz Wielki University in Bydgoszcz\, Poland\ndr hab.\, prof. UJ Remigiusz Sapa\, Jagiellonian Library/Jagiellonian University\, Poland\ndr Dorota Sidorowicz-Mulak\, Ossolineum National Library\, Poland\ndr Richard Šípek\, National Museum in Prague\, Czech Republic\n\n\n\n\n\n\n\n\n\n\n\n\n\n\n\n\n\n\nPartner\n\n\n\n\n\n\n\n\n\nThe International Centre for Training and Research on Cultural Heritage in Danger \n\n\n\n\n\n\n\n\n\n\n\n\n\n\n\n\n\n\n\n\n\n\n\n\n\n\n\n\nHonorary patronage\n\n\n\n\n\n\n\n\n\n\n\n\n\n\n\n\n\n\n\n\n\n\n\n\n\n\n\nFinancing\n\n\n\n\n\n\n\n\n\nThe project is co-financed from the state budget\, allocated by the Ministry of Science and Higher Education Republic of Poland under the Excellent Science II Programme (Poland). \n\n\n\n\n\n\n\n\n\n\n\n\n\n\n\n\n\n\n\n\n\n\n\n\n\n\n\n\n\n\n\n\n\n\n\n\n\n\n\n\n\nOrganising Committe\n\n\n\n\n\n\n\n\n\ndr Agnieszka Franczyk-Cegła\ndr Konrad Szymański\ndr Olga Tkachuk \nContact: ksiazka-dawna@ossolineum.pl
URL:https://staging.arbeitskreis-provenienzforschung.org/event/4th-international-provenance-conference-dispersed-libraries-postwar-fates-of-early-printed-book-collections/
LOCATION:Ossoliński National Institute\, 37 Szewska Street\, Wrocław\, 50-139\, Poland
ORGANIZER;CN="Biblioteka Ossolineum":MAILTO:ossolineum@ossolineum.pl
END:VEVENT
END:VCALENDAR